View In:
ArcGIS JavaScript
ArcGIS Online Map Viewer
ArcGIS Earth
ArcMap
View Footprint In:
ArcGIS Online Map Viewer
Service Description: Información Aero magnética de Cooperación entre SAN –INGEOMIN-AEROSERVICE, Levantada por Intera Aeroservice, Año de ejecución: 1975, Líneas de vuelo levantadas : 67,800 Km de b.y a sensit. Espaciamiento de Linea : 2.5 Km Se complementó con el levantamiento realizado al SW del Cuzco de Metallic Minerals Exploration Agency of Japan Se ejecuto en el año 1971 Cia ejecutora Hunting con 5858 Km de longitud total Espaciamiento de línea : 1 Km Mediante el Proyecto SAMMP que comenzó en el año 1992, se procesó la información digital ferromagnética y se obtuvo mapas del Campo magnético total, Señal analítica y Reducido al Polo, como productos principales.
AEROMAGNETICO:
Perú en Imagen raster procesada el Año de levantamiento: 1975. Intervalo de contorno: 2, 10, 50 gammas Altitud: 5,791 m Proyección: UTM. Control: DOPPLER. Escala del producto 1:100,000 Productos: Profundidad a fuentes magnet., Isomagnetico: Interpretacion geofísica. Cooperación entre Servicio Aerofotogramétrico Nacional S.A.N -INGEOMIN-AEROSERVICE. Levantada por Intera Aeroservice. Ano de ejecución: 1975. Líneas de vuelo levantadas : 67,800 Km de b.y a sensit. Espaciamiento de Linea:2.5 Km Se complemento con el levantamiento realizado al SW del Cuzco de Metallic Minerals Exploration Agency of Japan. Se ejecuto en el ano 1971. Cia ejecutora Hunting. Con 5858 Km de longitud total. Espaciamiento de linea : 1 Km Mediante el Proyecto SAMMP que comenzó en el ano 1992, se procesó la información digital ferromagnética y se obtuvo mapas del Campo magnético total, Señal analítica y Reducido al Polo, como productos principales. La información adicional que corresponde a la selva peruana es proporcionada por Petroperú (Mayor información o referencia en la misma oficina de Petroperú).
Name: SERV_AEROMAGNETIICO
Description: Información Aero magnética de Cooperación entre SAN –INGEOMIN-AEROSERVICE, Levantada por Intera Aeroservice, Año de ejecución: 1975, Líneas de vuelo levantadas : 67,800 Km de b.y a sensit. Espaciamiento de Linea : 2.5 Km Se complementó con el levantamiento realizado al SW del Cuzco de Metallic Minerals Exploration Agency of Japan Se ejecuto en el año 1971 Cia ejecutora Hunting con 5858 Km de longitud total Espaciamiento de línea : 1 Km Mediante el Proyecto SAMMP que comenzó en el año 1992, se procesó la información digital ferromagnética y se obtuvo mapas del Campo magnético total, Señal analítica y Reducido al Polo, como productos principales.
AEROMAGNETICO:
Perú en Imagen raster procesada el Año de levantamiento: 1975. Intervalo de contorno: 2, 10, 50 gammas Altitud: 5,791 m Proyección: UTM. Control: DOPPLER. Escala del producto 1:100,000 Productos: Profundidad a fuentes magnet., Isomagnetico: Interpretacion geofísica. Cooperación entre Servicio Aerofotogramétrico Nacional S.A.N -INGEOMIN-AEROSERVICE. Levantada por Intera Aeroservice. Ano de ejecución: 1975. Líneas de vuelo levantadas : 67,800 Km de b.y a sensit. Espaciamiento de Linea:2.5 Km Se complemento con el levantamiento realizado al SW del Cuzco de Metallic Minerals Exploration Agency of Japan. Se ejecuto en el ano 1971. Cia ejecutora Hunting. Con 5858 Km de longitud total. Espaciamiento de linea : 1 Km Mediante el Proyecto SAMMP que comenzó en el ano 1992, se procesó la información digital ferromagnética y se obtuvo mapas del Campo magnético total, Señal analítica y Reducido al Polo, como productos principales. La información adicional que corresponde a la selva peruana es proporcionada por Petroperú (Mayor información o referencia en la misma oficina de Petroperú).
Single Fused Map Cache: false
Extent:
XMin: 59696.19562263647
YMin: 7923466.6742181685
XMax: 1324331.7047618795
YMax: 1.0067815489870584E7
Spatial Reference: 32718
(32718)
Initial Extent:
XMin: 59696.19562263647
YMin: 7923466.6742181685
XMax: 1324331.7047618795
YMax: 1.0067815489870584E7
Spatial Reference: 32718
(32718)
Full Extent:
XMin: 59696.19562263647
YMin: 7923466.6742181685
XMax: 1324331.7047618795
YMax: 1.0067815489870584E7
Spatial Reference: 32718
(32718)
Pixel Size X: 63.508035411
Pixel Size Y: 63.508035411
Band Count: 3
Pixel Type: U8
RasterFunction Infos: {"rasterFunctionInfos": [{
"name": "None",
"description": "",
"help": ""
}]}
Mensuration Capabilities: Basic
Has Histograms: true
Has Colormap: false
Has Multi Dimensions : false
Rendering Rule:
Min Scale: 0
Max Scale: 0
Copyright Text: Cooperación INGEMMET
Service Data Type: esriImageServiceDataTypeRGB
Min Values: 0, 0, 0
Max Values: 255, 255, 255
Mean Values: 220.88199686540656, 224.6467473074928, 199.49172683767202
Standard Deviation Values: 82.75806155733868, 69.17499141368191, 100.92637034212403
Object ID Field: OBJECTID
Fields:
-
OBJECTID
(
type: esriFieldTypeOID, alias: OBJECTID
)
-
NAME
(
type: esriFieldTypeString, alias: NAME, length: 200
)
-
MINPS
(
type: esriFieldTypeDouble, alias: MINPS
)
-
MAXPS
(
type: esriFieldTypeDouble, alias: MAXPS
)
-
LOWPS
(
type: esriFieldTypeDouble, alias: LOWPS
)
-
HIGHPS
(
type: esriFieldTypeDouble, alias: HIGHPS
)
-
CATEGORY
(
type: esriFieldTypeInteger, alias: CATEGORY
, Coded Values:
[0: Unknown]
, [1: Primary]
, [2: Overview]
, ...6 more...
)
-
TAG
(
type: esriFieldTypeString, alias: TAG, length: 100
)
-
GROUPNAME
(
type: esriFieldTypeString, alias: GROUPNAME, length: 100
)
-
PRODUCTNAME
(
type: esriFieldTypeString, alias: PRODUCTNAME, length: 100
)
-
CENTERX
(
type: esriFieldTypeDouble, alias: CENTERX
)
-
CENTERY
(
type: esriFieldTypeDouble, alias: CENTERY
)
-
ZORDER
(
type: esriFieldTypeInteger, alias: ZORDER
)
-
SHAPE
(
type: esriFieldTypeGeometry, alias: SHAPE
)
Default Mosaic Method: Northwest
Allowed Mosaic Methods: NorthWest,Center,LockRaster,ByAttribute,Nadir,Viewpoint,Seamline,None
SortField:
SortValue: null
Mosaic Operator: First
Default Compression Quality: 75
Default Resampling Method: Bilinear
Max Record Count: 1000
Max Image Height: 4100
Max Image Width: 15000
Max Download Image Count: 20
Max Mosaic Image Count: 20
Allow Raster Function: true
Allow Copy: true
Allow Analysis: true
Allow Compute TiePoints: false
Supports Statistics: true
Supports Advanced Queries: true
Use StandardizedQueries: true
Raster Type Infos:
Name: Raster Dataset
Description: Supports all ArcGIS Raster Datasets
Help:
Has Raster Attribute Table: false
Edit Fields Info: null
Ownership Based AccessControl For Rasters: null
Child Resources:
Info
Histograms
Statistics
Key Properties
Legend
Raster Function Infos
Supported Operations:
Export Image
Query
Identify
Measure
Compute Histograms
Compute Statistics Histograms
Get Samples
Compute Class Statistics
Query Boundary
Compute Pixel Location
Compute Angles
Validate
Project