{
 "currentVersion": 10.91,
 "serviceDescription": "\n\nInformación Aero magnética de Cooperación entre SAN \u2013INGEOMIN-AEROSERVICE, Levantada por Intera Aeroservice, Año de ejecución: 1975, Líneas de vuelo levantadas : 67,800 Km de b.y a sensit. Espaciamiento de Linea : 2.5 Km Se complementó con el levantamiento realizado al SW del Cuzco de Metallic Minerals Exploration Agency of Japan Se ejecuto en el año 1971 Cia ejecutora Hunting con 5858 Km de longitud total Espaciamiento de línea : 1 Km Mediante el Proyecto SAMMP que comenzó en el año 1992, se procesó la información digital ferromagnética y se obtuvo mapas del Campo magnético total, Señal analítica y Reducido al Polo, como productos principales.\n\nAEROMAGNETICO:\nPerú en Imagen raster procesada el Año de levantamiento: 1975. Intervalo de contorno: 2, 10, 50 gammas Altitud: 5,791 m Proyección: UTM. Control: DOPPLER. Escala del producto 1:100,000 Productos: Profundidad a fuentes magnet., Isomagnetico: Interpretacion geofísica. Cooperación entre Servicio Aerofotogramétrico Nacional S.A.N -INGEOMIN-AEROSERVICE. Levantada por Intera Aeroservice. Ano de ejecución: 1975. Líneas de vuelo levantadas : 67,800 Km de b.y a sensit. Espaciamiento de Linea:2.5 Km Se complemento con el levantamiento realizado al SW del Cuzco de Metallic Minerals Exploration Agency of Japan. Se ejecuto en el ano 1971. Cia ejecutora Hunting. Con 5858 Km de longitud total. Espaciamiento de linea : 1 Km Mediante el Proyecto SAMMP que comenzó en el ano 1992, se procesó la información digital ferromagnética y se obtuvo mapas del Campo magnético total, Señal analítica y Reducido al Polo, como productos principales. La información adicional que corresponde a la selva peruana es proporcionada por Petroperú (Mayor información o referencia en la misma oficina de Petroperú).",
 "name": "SERV_AEROMAGNETIICO",
 "description": "\n\nInformación Aero magnética de Cooperación entre SAN \u2013INGEOMIN-AEROSERVICE, Levantada por Intera Aeroservice, Año de ejecución: 1975, Líneas de vuelo levantadas : 67,800 Km de b.y a sensit. Espaciamiento de Linea : 2.5 Km Se complementó con el levantamiento realizado al SW del Cuzco de Metallic Minerals Exploration Agency of Japan Se ejecuto en el año 1971 Cia ejecutora Hunting con 5858 Km de longitud total Espaciamiento de línea : 1 Km Mediante el Proyecto SAMMP que comenzó en el año 1992, se procesó la información digital ferromagnética y se obtuvo mapas del Campo magnético total, Señal analítica y Reducido al Polo, como productos principales.\n\nAEROMAGNETICO:\nPerú en Imagen raster procesada el Año de levantamiento: 1975. Intervalo de contorno: 2, 10, 50 gammas Altitud: 5,791 m Proyección: UTM. Control: DOPPLER. Escala del producto 1:100,000 Productos: Profundidad a fuentes magnet., Isomagnetico: Interpretacion geofísica. Cooperación entre Servicio Aerofotogramétrico Nacional S.A.N -INGEOMIN-AEROSERVICE. Levantada por Intera Aeroservice. Ano de ejecución: 1975. Líneas de vuelo levantadas : 67,800 Km de b.y a sensit. Espaciamiento de Linea:2.5 Km Se complemento con el levantamiento realizado al SW del Cuzco de Metallic Minerals Exploration Agency of Japan. Se ejecuto en el ano 1971. Cia ejecutora Hunting. Con 5858 Km de longitud total. Espaciamiento de linea : 1 Km Mediante el Proyecto SAMMP que comenzó en el ano 1992, se procesó la información digital ferromagnética y se obtuvo mapas del Campo magnético total, Señal analítica y Reducido al Polo, como productos principales. La información adicional que corresponde a la selva peruana es proporcionada por Petroperú (Mayor información o referencia en la misma oficina de Petroperú).",
 "extent": {
  "xmin": 59696.19562263647,
  "ymin": 7923466.6742181685,
  "xmax": 1324331.7047618795,
  "ymax": 1.0067815489870584E7,
  "spatialReference": {
   "wkid": 32718,
   "latestWkid": 32718
  }
 },
 "initialExtent": {
  "xmin": 59696.19562263647,
  "ymin": 7923466.6742181685,
  "xmax": 1324331.7047618795,
  "ymax": 1.0067815489870584E7,
  "spatialReference": {
   "wkid": 32718,
   "latestWkid": 32718
  }
 },
 "fullExtent": {
  "xmin": 59696.19562263647,
  "ymin": 7923466.6742181685,
  "xmax": 1324331.7047618795,
  "ymax": 1.0067815489870584E7,
  "spatialReference": {
   "wkid": 32718,
   "latestWkid": 32718
  }
 },
 "hasMultidimensions": false,
 "pixelSizeX": 63.508035411,
 "pixelSizeY": 63.508035411,
 "datasetFormat": "AMD",
 "uncompressedSize": 2017087335,
 "blockWidth": 2048,
 "blockHeight": 256,
 "compressionType": "None",
 "bandNames": [
  "Band_1",
  "Band_2",
  "Band_3"
 ],
 "allowCopy": true,
 "allowAnalysis": true,
 "bandCount": 3,
 "pixelType": "U8",
 "minPixelSize": 0,
 "maxPixelSize": 0,
 "copyrightText": "Cooperación INGEMMET",
 "serviceDataType": "esriImageServiceDataTypeRGB",
 "serviceSourceType": "esriImageServiceSourceTypeMosaicDataset",
 "minValues": [
  0,
  0,
  0
 ],
 "maxValues": [
  255,
  255,
  255
 ],
 "meanValues": [
  220.88199686540656,
  224.6467473074928,
  199.49172683767202
 ],
 "stdvValues": [
  82.75806155733868,
  69.17499141368191,
  100.92637034212403
 ],
 "objectIdField": "OBJECTID",
 "fields": [
  {
   "name": "OBJECTID",
   "type": "esriFieldTypeOID",
   "alias": "OBJECTID",
   "domain": null
  },
  {
   "name": "NAME",
   "type": "esriFieldTypeString",
   "alias": "NAME",
   "domain": null,
   "length": 200
  },
  {
   "name": "MINPS",
   "type": "esriFieldTypeDouble",
   "alias": "MINPS",
   "domain": null
  },
  {
   "name": "MAXPS",
   "type": "esriFieldTypeDouble",
   "alias": "MAXPS",
   "domain": null
  },
  {
   "name": "LOWPS",
   "type": "esriFieldTypeDouble",
   "alias": "LOWPS",
   "domain": null
  },
  {
   "name": "HIGHPS",
   "type": "esriFieldTypeDouble",
   "alias": "HIGHPS",
   "domain": null
  },
  {
   "name": "CATEGORY",
   "type": "esriFieldTypeInteger",
   "alias": "CATEGORY",
   "domain": {
    "type": "codedValue",
    "name": "MosaicCatalogItemCategoryDomain",
    "description": "Categorías de elementos del catálogo.",
    "codedValues": [
     {
      "name": "Unknown",
      "code": 0
     },
     {
      "name": "Primary",
      "code": 1
     },
     {
      "name": "Overview",
      "code": 2
     },
     {
      "name": "Unprocessed Overview",
      "code": 3
     },
     {
      "name": "Partial Overview",
      "code": 4
     },
     {
      "name": "Inactive",
      "code": 5
     },
     {
      "name": "Uploaded",
      "code": 253
     },
     {
      "name": "Incomplete",
      "code": 254
     },
     {
      "name": "Custom",
      "code": 255
     }
    ],
    "mergePolicy": "esriMPTDefaultValue",
    "splitPolicy": "esriSPTDefaultValue"
   }
  },
  {
   "name": "TAG",
   "type": "esriFieldTypeString",
   "alias": "TAG",
   "domain": null,
   "length": 100
  },
  {
   "name": "GROUPNAME",
   "type": "esriFieldTypeString",
   "alias": "GROUPNAME",
   "domain": null,
   "length": 100
  },
  {
   "name": "PRODUCTNAME",
   "type": "esriFieldTypeString",
   "alias": "PRODUCTNAME",
   "domain": null,
   "length": 100
  },
  {
   "name": "CENTERX",
   "type": "esriFieldTypeDouble",
   "alias": "CENTERX",
   "domain": null
  },
  {
   "name": "CENTERY",
   "type": "esriFieldTypeDouble",
   "alias": "CENTERY",
   "domain": null
  },
  {
   "name": "ZORDER",
   "type": "esriFieldTypeInteger",
   "alias": "ZORDER",
   "domain": null
  },
  {
   "name": "SHAPE",
   "type": "esriFieldTypeGeometry",
   "alias": "SHAPE",
   "domain": null
  }
 ],
 "capabilities": "Catalog,Mensuration,Image,Metadata",
 "defaultMosaicMethod": "Northwest",
 "allowedMosaicMethods": "NorthWest,Center,LockRaster,ByAttribute,Nadir,Viewpoint,Seamline,None",
 "sortField": "",
 "sortValue": null,
 "sortAscending": true,
 "mosaicOperator": "First",
 "maxDownloadSizeLimit": 2048,
 "defaultCompressionQuality": 75,
 "defaultResamplingMethod": "Bilinear",
 "maxImageHeight": 4100,
 "maxImageWidth": 15000,
 "maxRecordCount": 1000,
 "maxDownloadImageCount": 20,
 "maxMosaicImageCount": 20,
 "allowRasterFunction": true,
 "rasterFunctionInfos": [
  {
   "name": "None",
   "description": "",
   "help": ""
  }
 ],
 "rasterTypeInfos": [
  {
   "name": "Raster Dataset",
   "description": "Supports all ArcGIS Raster Datasets",
   "help": ""
  }
 ],
 "mensurationCapabilities": "Basic",
 "hasHistograms": true,
 "hasColormap": false,
 "hasRasterAttributeTable": false,
 "minScale": 0,
 "maxScale": 0,
 "exportTilesAllowed": false,
 "supportsStatistics": true,
 "supportsAdvancedQueries": true,
 "editFieldsInfo": null,
 "ownershipBasedAccessControlForRasters": null,
 "allowComputeTiePoints": false,
 "useStandardizedQueries": true,
 "advancedQueryCapabilities": {
  "useStandardizedQueries": true,
  "supportsStatistics": true,
  "supportsOrderBy": true,
  "supportsDistinct": true,
  "supportsPagination": true
 },
 "spatialReference": {
  "wkid": 32718,
  "latestWkid": 32718
 }
}
