View In:
ArcGIS JavaScript
ArcGIS Online Map Viewer
ArcGIS Earth
ArcMap
View Footprint In:
ArcGIS Online Map Viewer
Service Description: Este mapa se generó en base a la combinación de los siguientes parámetros: pendiente, geomorfología, litología, hidrogeología y cobertura vegetal. Los objetivos de este mapa son plantear un modelo que indique las zonas de mayor propensión a los movimientos en masa del territorio nacional, a fin de contar con una herramienta para la gestión de riesgos por este tipo de procesos.
Se identifican en el mapa, áreas potencialmente susceptibles a los movimientos en masa (deslizamientos, caídas de rocas, derrumbes, huaycos, aluviones, avalanchas, etc).
LEYENDA:
Muy Alta: pendientes entre 30° a 45°.
Alta: pendientes entre 25° a 45°.
Media: pendientes entre 20° y 30°.
Baja: Pendientes entre 10° a 20°.
Muy Baja: pendientes menores a 5° .
Name: SERV_IMG_SUSCEP_MOV_MASA
Description: Este mapa se generó en base a la combinación de los siguientes parámetros: pendiente, geomorfología, litología, hidrogeología y cobertura vegetal. Los objetivos de este mapa son plantear un modelo que indique las zonas de mayor propensión a los movimientos en masa del territorio nacional, a fin de contar con una herramienta para la gestión de riesgos por este tipo de procesos.
Se identifican en el mapa, áreas potencialmente susceptibles a los movimientos en masa (deslizamientos, caídas de rocas, derrumbes, huaycos, aluviones, avalanchas, etc).
LEYENDA:
Muy Alta: pendientes entre 30° a 45°.
Alta: pendientes entre 25° a 45°.
Media: pendientes entre 20° y 30°.
Baja: Pendientes entre 10° a 20°.
Muy Baja: pendientes menores a 5° .
Single Fused Map Cache: false
Extent:
XMin: -203252.497829479
YMin: 7965716.5
XMax: 1191147.50217052
YMax: 9995916.5
Spatial Reference: 32718
(32718)
Initial Extent:
XMin: -203252.497829479
YMin: 7965716.5
XMax: 1191147.50217052
YMax: 9995916.5
Spatial Reference: 32718
(32718)
Full Extent:
XMin: -203252.497829479
YMin: 7965716.5
XMax: 1191147.50217052
YMax: 9995916.5
Spatial Reference: 32718
(32718)
Pixel Size X: 199.99999999999983
Pixel Size Y: 200.0
Band Count: 1
Pixel Type: U8
RasterFunction Infos: {"rasterFunctionInfos": [{
"name": "None",
"description": "",
"help": ""
}]}
Mensuration Capabilities: Basic
Has Histograms: true
Has Colormap: false
Has Multi Dimensions : false
Rendering Rule:
Min Scale: 0
Max Scale: 0
Copyright Text:
Service Data Type: esriImageServiceDataTypeGeneric
Min Values: 1
Max Values: 5
Mean Values: 2.562184172887805
Standard Deviation Values: 1.329897051766187
Object ID Field:
Fields:
None
Default Mosaic Method: Center
Allowed Mosaic Methods:
SortField:
SortValue: null
Mosaic Operator: First
Default Compression Quality: 75
Default Resampling Method: Bilinear
Max Record Count: null
Max Image Height: 4100
Max Image Width: 15000
Max Download Image Count: null
Max Mosaic Image Count: null
Allow Raster Function: true
Allow Copy: null
Allow Analysis: null
Allow Compute TiePoints: false
Supports Statistics: false
Supports Advanced Queries: false
Use StandardizedQueries: true
Raster Type Infos:
Name: Raster Dataset
Description: Supports all ArcGIS Raster Datasets
Help:
Has Raster Attribute Table: true
Edit Fields Info: null
Ownership Based AccessControl For Rasters: null
Child Resources:
Info
Raster Attribute Table
Histograms
Key Properties
Legend
Raster Function Infos
Supported Operations:
Export Image
Identify
Measure
Compute Histograms
Compute Statistics Histograms
Get Samples
Compute Class Statistics
Query Boundary
Compute Pixel Location
Compute Angles
Validate
Project