{
 "currentVersion": 10.91,
 "serviceDescription": "Este mapa se generó en base a la combinación de los siguientes parámetros: pendiente, geomorfología, litología, hidrogeología y cobertura vegetal. Los objetivos de este mapa son plantear un modelo que indique las zonas de mayor propensión a los movimientos en masa del territorio nacional, a fin de contar con una herramienta para la gestión de riesgos por este tipo de procesos.\nSe identifican en el mapa, áreas potencialmente susceptibles a los movimientos en masa (deslizamientos, caídas de rocas, derrumbes, huaycos, aluviones, avalanchas, etc).\nLEYENDA:\nMuy Alta: pendientes entre 30° a 45°. \nAlta: pendientes entre 25° a 45°.\nMedia: pendientes entre 20° y 30°.\nBaja: Pendientes entre 10° a 20°. \nMuy Baja: pendientes menores a 5° .",
 "name": "SERV_IMG_SUSCEP_MOV_MASA",
 "description": "Este mapa se generó en base a la combinación de los siguientes parámetros: pendiente, geomorfología, litología, hidrogeología y cobertura vegetal. Los objetivos de este mapa son plantear un modelo que indique las zonas de mayor propensión a los movimientos en masa del territorio nacional, a fin de contar con una herramienta para la gestión de riesgos por este tipo de procesos.\nSe identifican en el mapa, áreas potencialmente susceptibles a los movimientos en masa (deslizamientos, caídas de rocas, derrumbes, huaycos, aluviones, avalanchas, etc).\nLEYENDA:\nMuy Alta: pendientes entre 30° a 45°. \nAlta: pendientes entre 25° a 45°.\nMedia: pendientes entre 20° y 30°.\nBaja: Pendientes entre 10° a 20°. \nMuy Baja: pendientes menores a 5° .",
 "extent": {
  "xmin": -203252.497829479,
  "ymin": 7965716.5,
  "xmax": 1191147.50217052,
  "ymax": 9995916.5,
  "spatialReference": {
   "wkid": 32718,
   "latestWkid": 32718
  }
 },
 "initialExtent": {
  "xmin": -203252.497829479,
  "ymin": 7965716.5,
  "xmax": 1191147.50217052,
  "ymax": 9995916.5,
  "spatialReference": {
   "wkid": 32718,
   "latestWkid": 32718
  }
 },
 "fullExtent": {
  "xmin": -203252.497829479,
  "ymin": 7965716.5,
  "xmax": 1191147.50217052,
  "ymax": 9995916.5,
  "spatialReference": {
   "wkid": 32718,
   "latestWkid": 32718
  }
 },
 "pixelSizeX": 199.99999999999983,
 "pixelSizeY": 200,
 "bandCount": 1,
 "pixelType": "U8",
 "minPixelSize": 0,
 "maxPixelSize": 0,
 "copyrightText": "",
 "serviceDataType": "esriImageServiceDataTypeGeneric",
 "minValues": [
  1
 ],
 "maxValues": [
  5
 ],
 "meanValues": [
  2.562184172887805
 ],
 "stdvValues": [
  1.329897051766187
 ],
 "objectIdField": "",
 "fields": [],
 "capabilities": "Image,Metadata,Mensuration",
 "defaultMosaicMethod": "Center",
 "allowedMosaicMethods": "",
 "sortField": "",
 "sortValue": null,
 "sortAscending": true,
 "mosaicOperator": "First",
 "defaultCompressionQuality": 75,
 "defaultResamplingMethod": "Bilinear",
 "maxImageHeight": 4100,
 "maxImageWidth": 15000,
 "allowRasterFunction": true,
 "rasterFunctionInfos": [
  {
   "name": "None",
   "description": "",
   "help": ""
  }
 ],
 "rasterTypeInfos": [
  {
   "name": "Raster Dataset",
   "description": "Supports all ArcGIS Raster Datasets",
   "help": ""
  }
 ],
 "mensurationCapabilities": "Basic",
 "hasHistograms": true,
 "hasColormap": false,
 "hasRasterAttributeTable": true,
 "minScale": 0,
 "maxScale": 0,
 "exportTilesAllowed": false,
 "hasMultidimensions": false,
 "supportsStatistics": false,
 "supportsAdvancedQueries": false,
 "editFieldsInfo": null,
 "ownershipBasedAccessControlForRasters": null,
 "allowComputeTiePoints": false,
 "useStandardizedQueries": true,
 "advancedQueryCapabilities": {
  "useStandardizedQueries": true,
  "supportsStatistics": false,
  "supportsOrderBy": false,
  "supportsDistinct": false,
  "supportsPagination": false
 },
 "spatialReference": {
  "wkid": 32718,
  "latestWkid": 32718
 }
}
