View In:
ArcGIS JavaScript
ArcGIS Online Map Viewer
ArcGIS Earth
ArcMap
View Footprint In:
ArcGIS Online Map Viewer
Service Description: SERV_IMG_SUSCEP_INUN_FLUVIAL
Name: SERV_IMG_SUSCEP_INUN_FLUVIAL
Description:
Single Fused Map Cache: false
Extent:
XMin: -203269.358764578
YMin: 7967484.093117
XMax: 1187630.64123542
YMax: 9995334.093117
Spatial Reference: 32718
(32718)
Initial Extent:
XMin: -203269.358764578
YMin: 7967484.093117
XMax: 1187630.64123542
YMax: 9995334.093117
Spatial Reference: 32718
(32718)
Full Extent:
XMin: -203269.358764578
YMin: 7967484.093117
XMax: 1187630.64123542
YMax: 9995334.093117
Spatial Reference: 32718
(32718)
Pixel Size X: 49.999999999999936
Pixel Size Y: 50.00000000000002
Band Count: 1
Pixel Type: U4
RasterFunction Infos: {"rasterFunctionInfos": [{
"name": "None",
"description": "",
"help": ""
}]}
Mensuration Capabilities: Basic
Has Histograms: true
Has Colormap: false
Has Multi Dimensions : false
Rendering Rule:
Min Scale: 0
Max Scale: 0
Copyright Text:
Service Data Type: esriImageServiceDataTypeGeneric
Min Values: 1
Max Values: 4
Mean Values: 1.9652600428673532
Standard Deviation Values: 1.0402842359917617
Object ID Field:
Fields:
None
Default Mosaic Method: Center
Allowed Mosaic Methods:
SortField:
SortValue: null
Mosaic Operator: First
Default Compression Quality: 75
Default Resampling Method: Bilinear
Max Record Count: null
Max Image Height: 4100
Max Image Width: 15000
Max Download Image Count: null
Max Mosaic Image Count: null
Allow Raster Function: true
Allow Copy: null
Allow Analysis: null
Allow Compute TiePoints: false
Supports Statistics: false
Supports Advanced Queries: false
Use StandardizedQueries: true
Raster Type Infos:
Name: Raster Dataset
Description: Supports all ArcGIS Raster Datasets
Help:
Has Raster Attribute Table: true
Edit Fields Info: null
Ownership Based AccessControl For Rasters: null
Child Resources:
Info
Raster Attribute Table
Histograms
Key Properties
Legend
Raster Function Infos
Supported Operations:
Export Image
Identify
Measure
Compute Histograms
Compute Statistics Histograms
Get Samples
Compute Class Statistics
Query Boundary
Compute Pixel Location
Compute Angles
Validate
Project