<?xml version="1.0" encoding="UTF-8" standalone="no"?>
<metadata xml:lang="es">
<Esri>
<MetaID>{ACC796C1-DBC9-41A0-AE31-CCE0A2617B1F}</MetaID>
<CreaDate>20100813</CreaDate>
<CreaTime>16465700</CreaTime>
<SyncOnce>FALSE</SyncOnce>
<SyncDate>20120815</SyncDate>
<SyncTime>10422300</SyncTime>
<ModDate>20120815</ModDate>
<ModTime>10422300</ModTime>
<DataProperties>
<itemProps>
<itemName Sync="FALSE">RS_SUSCEPTIBILIDAD_PERU</itemName>
<imsContentType Sync="TRUE">002</imsContentType>
<nativeExtBox>
<westBL Sync="TRUE">-203252.497829</westBL>
<eastBL Sync="TRUE">1191147.502171</eastBL>
<southBL Sync="TRUE">7965716.500000</southBL>
<northBL Sync="TRUE">9995916.500000</northBL>
<exTypeCode Sync="TRUE">1</exTypeCode>
</nativeExtBox>
</itemProps>
<coordRef>
<type Sync="TRUE">Projected</type>
<geogcsn Sync="TRUE">GCS_WGS_1984</geogcsn>
<csUnits Sync="TRUE">Linear Unit: Meter (1.000000)</csUnits>
<projcsn Sync="TRUE">WGS_1984_UTM_Zone_18S</projcsn>
<peXml Sync="TRUE">&lt;ProjectedCoordinateSystem xsi:type='typens:ProjectedCoordinateSystem' xmlns:xsi='http://www.w3.org/2001/XMLSchema-instance' xmlns:xs='http://www.w3.org/2001/XMLSchema' xmlns:typens='http://www.esri.com/schemas/ArcGIS/10.1'&gt;&lt;WKT&gt;PROJCS[&amp;quot;WGS_1984_UTM_Zone_18S&amp;quot;,GEOGCS[&amp;quot;GCS_WGS_1984&amp;quot;,DATUM[&amp;quot;D_WGS_1984&amp;quot;,SPHEROID[&amp;quot;WGS_1984&amp;quot;,6378137.0,298.257223563]],PRIMEM[&amp;quot;Greenwich&amp;quot;,0.0],UNIT[&amp;quot;Degree&amp;quot;,0.0174532925199433]],PROJECTION[&amp;quot;Transverse_Mercator&amp;quot;],PARAMETER[&amp;quot;False_Easting&amp;quot;,500000.0],PARAMETER[&amp;quot;False_Northing&amp;quot;,10000000.0],PARAMETER[&amp;quot;Central_Meridian&amp;quot;,-75.0],PARAMETER[&amp;quot;Scale_Factor&amp;quot;,0.9996],PARAMETER[&amp;quot;Latitude_Of_Origin&amp;quot;,0.0],UNIT[&amp;quot;Meter&amp;quot;,1.0],AUTHORITY[&amp;quot;EPSG&amp;quot;,32718]]&lt;/WKT&gt;&lt;XOrigin&gt;-5120900&lt;/XOrigin&gt;&lt;YOrigin&gt;1900&lt;/YOrigin&gt;&lt;XYScale&gt;450445547.3910538&lt;/XYScale&gt;&lt;ZOrigin&gt;0&lt;/ZOrigin&gt;&lt;ZScale&gt;1&lt;/ZScale&gt;&lt;MOrigin&gt;0&lt;/MOrigin&gt;&lt;MScale&gt;1&lt;/MScale&gt;&lt;XYTolerance&gt;0.001&lt;/XYTolerance&gt;&lt;ZTolerance&gt;2&lt;/ZTolerance&gt;&lt;MTolerance&gt;2&lt;/MTolerance&gt;&lt;HighPrecision&gt;true&lt;/HighPrecision&gt;&lt;WKID&gt;32718&lt;/WKID&gt;&lt;LatestWKID&gt;32718&lt;/LatestWKID&gt;&lt;/ProjectedCoordinateSystem&gt;</peXml>
</coordRef>
</DataProperties>
</Esri>
<idinfo>
<native Sync="FALSE">ESRI ArcCatalog 9.3.0.1770</native>
<descript>
<langdata Sync="TRUE">es</langdata>
<abstract>REQUIRED: A brief narrative summary of the data set.</abstract>
<purpose>REQUIRED: A summary of the intentions with which the data set was developed.</purpose>
</descript>
<citation>
<citeinfo>
<origin>REQUIRED: The name of an organization or individual that developed the data set.</origin>
<pubdate>REQUIRED: The date when the data set is published or otherwise made available for release.</pubdate>
<title Sync="FALSE">RS_SUSCEPTIBILIDAD_PERU</title>
<ftname Sync="FALSE">RS_SUSCEPTIBILIDAD_PERU</ftname>
<geoform Sync="TRUE">SDE raster digital data</geoform>
<onlink Sync="FALSE">withheld</onlink>
</citeinfo>
</citation>
<timeperd>
<current>REQUIRED: The basis on which the time period of content information is determined.</current>
<timeinfo>
<sngdate>
<caldate>REQUIRED: The year (and optionally month, or month and day) for which the data set corresponds to the ground.</caldate>
</sngdate>
</timeinfo>
</timeperd>
<status>
<progress>REQUIRED: The state of the data set.</progress>
<update>REQUIRED: The frequency with which changes and additions are made to the data set after the initial data set is completed.</update>
</status>
<spdom>
<bounding>
<westbc Sync="TRUE">-81.641694</westbc>
<eastbc Sync="TRUE">-68.472077</eastbc>
<northbc Sync="TRUE">-0.036720</northbc>
<southbc Sync="TRUE">-18.398577</southbc>
</bounding>
<lboundng>
<leftbc Sync="TRUE">-203252.497829</leftbc>
<rightbc Sync="TRUE">1191147.502171</rightbc>
<bottombc Sync="TRUE">7965716.500000</bottombc>
<topbc Sync="TRUE">9995916.500000</topbc>
</lboundng>
</spdom>
<keywords>
<theme>
<themekt>REQUIRED: Reference to a formally registered thesaurus or a similar authoritative source of theme keywords.</themekt>
<themekey>REQUIRED: Common-use word or phrase used to describe the subject of the data set.</themekey>
</theme>
</keywords>
<accconst>REQUIRED: Restrictions and legal prerequisites for accessing the data set.</accconst>
<useconst>REQUIRED: Restrictions and legal prerequisites for using the data set after access is granted.</useconst>
<natvform Sync="FALSE">Raster Dataset</natvform>
</idinfo>
<dataIdInfo>
<envirDesc Sync="FALSE">Esri ArcGIS 10.1.0.3035</envirDesc>
<dataLang>
<languageCode Sync="TRUE" value="es">
</languageCode>
<countryCode Sync="TRUE" value="PE">
</countryCode>
</dataLang>
<idCitation>
<resTitle>GEOCATMIN: Mapa de susceptibilidad por movimientos en masa en el Perú</resTitle>
<presForm>
<PresFormCd Sync="TRUE" value="011">
</PresFormCd>
</presForm>
<resEd>2010</resEd>
<resEdDate>20100816</resEdDate>
<resRefDate>
<refDate>20100816</refDate>
<refDateType>
<DateTypCd value="001">
</DateTypCd>
</refDateType>
</resRefDate>
<resRefDate>
<refDate>20100816</refDate>
<refDateType>
<DateTypCd value="003">
</DateTypCd>
</refDateType>
</resRefDate>
<resRefDate>
<refDate>20100816</refDate>
<refDateType>
<DateTypCd value="002">
</DateTypCd>
</refDateType>
</resRefDate>
<citRespParty>
<rpIndName>Lionel Fidel Smoll</rpIndName>
<rpOrgName>Instituto Geologico Minero y Metalurgico</rpOrgName>
<rpPosName>Director de Geología Ambiental y Riesgo Geológico</rpPosName>
<role>
<RoleCd value="008">
</RoleCd>
</role>
<rpCntInfo>
<cntAddress>
<delPoint>Avenida Canada 1470 San Borja</delPoint>
<city>Lima</city>
<adminArea>Lima</adminArea>
<postCode>043</postCode>
<eMailAdd>lfidel@ingemmet.gob.pe</eMailAdd>
<country>pe</country>
</cntAddress>
<cntPhone>
<voiceNum>6189800</voiceNum>
</cntPhone>
</rpCntInfo>
</citRespParty>
<citRespParty>
<rpIndName>Sandra Villacorta</rpIndName>
<rpOrgName>Instituto Geologico Minero y Metalurgico</rpOrgName>
<rpPosName>Director de Geología Ambiental y Riesgo Geológico</rpPosName>
<rpCntInfo>
<cntAddress>
<delPoint>Avenida Canada 1470 San Borja</delPoint>
<city>Lima</city>
<adminArea>Lima</adminArea>
<postCode>043</postCode>
<eMailAdd>svillacorta@ingemmet.gob.pe</eMailAdd>
<country>pe</country>
</cntAddress>
<cntPhone>
<voiceNum>6189800</voiceNum>
</cntPhone>
</rpCntInfo>
<role>
<RoleCd value="008">
</RoleCd>
</role>
</citRespParty>
<resAltTitle>Mapa de susceptibilidad por movimientos en masa en el Perú escala 1/2,000,000 fecha 2010 INGEMMET</resAltTitle>
</idCitation>
<spatRpType>
<SpatRepTypCd Sync="TRUE" value="002">
</SpatRepTypCd>
</spatRpType>
<dataExt>
<geoEle>
<GeoBndBox esriExtentType="native">
<westBL Sync="TRUE">-203252.497829</westBL>
<eastBL Sync="TRUE">1191147.502171</eastBL>
<northBL Sync="TRUE">9995916.5</northBL>
<southBL Sync="TRUE">7965716.5</southBL>
<exTypeCode Sync="TRUE">1</exTypeCode>
</GeoBndBox>
</geoEle>
<tempEle>
<TempExtent>
<exTemp>
<TM_GeometricPrimitive>
<TM_Instant>
<tmPosition>
<TM_DateAndTime>
<calDate>20100101</calDate>
<clkTime>000000</clkTime>
</TM_DateAndTime>
</tmPosition>
</TM_Instant>
</TM_GeometricPrimitive>
</exTemp>
</TempExtent>
</tempEle>
</dataExt>
<geoBox esriExtentType="decdegrees">
<westBL Sync="TRUE">-81.641694</westBL>
<eastBL Sync="TRUE">-68.472077</eastBL>
<northBL Sync="TRUE">-0.03672</northBL>
<southBL Sync="TRUE">-18.398577</southBL>
<exTypeCode Sync="TRUE">1</exTypeCode>
</geoBox>
<idAbs>Este mapa se generó en base a la combinación de los siguientes parámetros: pendiente, geomorfología, litología, hidrogeología y cobertura vegetal. Los objetivos de este mapa son plantear un modelo que indique las zonas de mayor propensión a los movimientos en masa del territorio nacional, a fin de contar con una herramienta para la gestión de riesgos por este tipo de procesos.
Se identifican en el mapa, áreas potencialmente susceptibles a los movimientos en masa (deslizamientos, caídas de rocas, derrumbes, huaycos, aluviones, avalanchas, etc).
LEYENDA:
Muy Alta: pendientes entre 30° a 45°. Alta: pendientes entre 25° a 45°.
Media: pendientes entre 20° y 30°.
Baja: Pendientes entre 10° a 20°. Muy Baja: pendientes menores a 5° .</idAbs>
<tpCat>
<TopicCatCd value="006">
</TopicCatCd>
</tpCat>
<tpCat>
<TopicCatCd value="008">
</TopicCatCd>
</tpCat>
<resMaint>
<maintFreq>
<MaintFreqCd value="009">
</MaintFreqCd>
</maintFreq>
<dateNext>20110816</dateNext>
</resMaint>
<dataScale>
<equScale>
<rfDenom>2000000</rfDenom>
</equScale>
</dataScale>
<descKeys KeyTypCd="005">
<keyTyp>
<KeyTypCd value="005">
</KeyTypCd>
</keyTyp>
<keyword>Geologia</keyword>
<keyword>Susceptibilidad</keyword>
<keyword>Movimientos en Masa</keyword>
<thesaName>
<resTitle>Geologia</resTitle>
<resRefDate>
<refDate>20100816</refDate>
<refDateType>
<DateTypCd value="003">
</DateTypCd>
</refDateType>
</resRefDate>
</thesaName>
</descKeys>
<descKeys KeyTypCd="002">
<keyTyp>
<KeyTypCd value="002">
</KeyTypCd>
</keyTyp>
<keyword>Peru</keyword>
<keyword>Nacional</keyword>
<thesaName>
<resTitle>Peru</resTitle>
<resRefDate>
<refDate>20100816</refDate>
<refDateType>
<DateTypCd value="002">
</DateTypCd>
</refDateType>
</resRefDate>
</thesaName>
</descKeys>
<resConst>
<Consts>
<useLimit>La simbolización de la susceptibilidad presentada en el mapa es una generalización a escala 1/2,000 000. Por lo tanto, para su uso a escalas menores, se debe considerar preliminar y debe ser evaluada a más detalle para la toma de decisiones y/o medidas de mitigación; debiendo considerarse que no figura la totalidad de zonas a ser afectadas, ni predicen cuando ocurrirán los procesos analizados.</useLimit>
</Consts>
<LegConsts>
<accessConsts>
<RestrictCd value="001">
</RestrictCd>
</accessConsts>
<useConsts>
<RestrictCd value="001">
</RestrictCd>
</useConsts>
</LegConsts>
<SecConsts>
<class>
<ClasscationCd value="001">
</ClasscationCd>
</class>
</SecConsts>
</resConst>
<dataExt>
<geoEle>
<GeoBndBox esriExtentType="search">
<exTypeCode Sync="TRUE">1</exTypeCode>
<westBL Sync="TRUE">-81.641694</westBL>
<eastBL Sync="TRUE">-68.472077</eastBL>
<northBL Sync="TRUE">-0.036720</northBL>
<southBL Sync="TRUE">-18.398577</southBL>
</GeoBndBox>
</geoEle>
</dataExt>
<searchKeys>
<keyword>Geologia</keyword>
<keyword>Susceptibilidad</keyword>
<keyword>Movimientos en Masa</keyword>
<keyword>Peru</keyword>
<keyword>Nacional</keyword>
</searchKeys>
<idPurp>Este mapa se generó en base a la combinación de los siguientes parámetros: pendiente, geomorfología, litología, hidrogeología y cobertura vegetal. Los objetivos de este mapa son plantear un modelo que indique las zonas de mayor propensión movimIENTOS</idPurp>
<idCredit/>
</dataIdInfo>
<metainfo>
<langmeta Sync="TRUE">es</langmeta>
<metstdn Sync="TRUE">FGDC Content Standards for Digital Geospatial Metadata</metstdn>
<metstdv Sync="TRUE">FGDC-STD-001-1998</metstdv>
<mettc Sync="TRUE">local time</mettc>
<metc>
<cntinfo>
<cntorgp>
<cntper>REQUIRED: The person responsible for the metadata information.</cntper>
<cntorg>REQUIRED: The organization responsible for the metadata information.</cntorg>
</cntorgp>
<cntaddr>
<addrtype>REQUIRED: The mailing and/or physical address for the organization or individual.</addrtype>
<city>REQUIRED: The city of the address.</city>
<state>REQUIRED: The state or province of the address.</state>
<postal>REQUIRED: The ZIP or other postal code of the address.</postal>
</cntaddr>
<cntvoice>REQUIRED: The telephone number by which individuals can speak to the organization or individual.</cntvoice>
</cntinfo>
</metc>
<metd Sync="TRUE">20111110</metd>
</metainfo>
<mdLang>
<languageCode Sync="TRUE" value="es">
</languageCode>
<countryCode Sync="TRUE" value="PE">
</countryCode>
</mdLang>
<mdStanName Sync="TRUE">ISO 19115 Geographic Information - Metadata</mdStanName>
<mdStanVer Sync="TRUE">DIS_ESRI1.0</mdStanVer>
<mdChar>
<CharSetCd Sync="TRUE" value="004">
</CharSetCd>
</mdChar>
<mdHrLv>
<ScopeCd Sync="TRUE" value="005">
</ScopeCd>
</mdHrLv>
<mdHrLvName Sync="TRUE">dataset</mdHrLvName>
<distinfo>
<resdesc Sync="TRUE">Downloadable Data</resdesc>
</distinfo>
<distInfo>
<distributor>
<distorTran>
<onLineSrc>
<orDesc>001</orDesc>
<linkage Sync="FALSE">withheld</linkage>
<orFunct>
<OnFunctCd value="002">
</OnFunctCd>
</orFunct>
</onLineSrc>
<offLineMed>
<medName>
<MedNameCd value="001">
</MedNameCd>
</medName>
</offLineMed>
</distorTran>
<distorFormat>
<formatName>Raster Dataset Arcgis</formatName>
<formatVer>Arcgis 9.3.1 Formato raster jpg</formatVer>
</distorFormat>
<distorCont>
<rpIndName>Direccion de Geologia Ambiental</rpIndName>
<rpOrgName>Instituto Geologico Minero y Metalurgico</rpOrgName>
<rpPosName>Direccion</rpPosName>
<rpCntInfo>
<cntAddress>
<delPoint>Avenida canada 1470 San Borja</delPoint>
<city>Lima</city>
<adminArea>Lima</adminArea>
<postCode>043</postCode>
<eMailAdd>informacion@ingemmet.gob.pe</eMailAdd>
<country>pe</country>
</cntAddress>
<cntPhone>
<voiceNum>6189800</voiceNum>
<faxNum>6189800</faxNum>
</cntPhone>
</rpCntInfo>
<role>
<RoleCd value="001">
</RoleCd>
</role>
</distorCont>
<distorOrdPrc>
<ordInstr>Solicitar informacion a traves de la oficina de atencion al publico.</ordInstr>
<resFees>0</resFees>
</distorOrdPrc>
</distributor>
<distFormat>
<formatName Sync="FALSE">Raster Dataset</formatName>
</distFormat>
</distInfo>
<spdoinfo>
<direct Sync="TRUE">Raster</direct>
<rastinfo>
<rasttype Sync="TRUE">Pixel</rasttype>
<rowcount Sync="TRUE">10151</rowcount>
<colcount Sync="TRUE">6972</colcount>
<rastxsz Sync="TRUE">200.000000</rastxsz>
<rastysz Sync="TRUE">200.000000</rastysz>
<rastbpp Sync="TRUE">8</rastbpp>
<vrtcount Sync="TRUE">1</vrtcount>
<rastorig Sync="TRUE">Upper Left</rastorig>
<rastcmap Sync="TRUE">FALSE</rastcmap>
<rastcomp Sync="TRUE">NONE</rastcomp>
<rastband Sync="TRUE">1</rastband>
<rastdtyp Sync="TRUE">pixel codes</rastdtyp>
<rastifor Sync="TRUE">SDR</rastifor>
<rastplyr Sync="TRUE">TRUE</rastplyr>
</rastinfo>
</spdoinfo>
<spref>
<horizsys>
<cordsysn>
<geogcsn Sync="TRUE">GCS_WGS_1984</geogcsn>
<projcsn Sync="TRUE">WGS_1984_UTM_Zone_18S</projcsn>
</cordsysn>
<planar>
<planci>
<plance Sync="TRUE">row and column</plance>
<plandu Sync="TRUE">meters</plandu>
<coordrep>
<absres Sync="TRUE">200.000000</absres>
<ordres Sync="TRUE">200.000000</ordres>
</coordrep>
</planci>
</planar>
<geodetic>
<horizdn Sync="TRUE">D_WGS_1984</horizdn>
<ellips Sync="TRUE">WGS_1984</ellips>
<semiaxis Sync="TRUE">6378137.000000</semiaxis>
<denflat Sync="TRUE">298.257224</denflat>
</geodetic>
</horizsys>
<vertdef>
<altsys>
<altenc Sync="TRUE">Explicit elevation coordinate included with horizontal coordinates</altenc>
<altres Sync="TRUE">1.000000</altres>
</altsys>
</vertdef>
</spref>
<refSysInfo>
<RefSystem>
<refSysID>
<identCode Sync="TRUE" value="32718">WGS_1984_UTM_Zone_18S</identCode>
<idCodeSpace Sync="TRUE">EPSG</idCodeSpace>
<idVersion Sync="TRUE">7.9.4</idVersion>
</refSysID>
</RefSystem>
</refSysInfo>
<eainfo>
<detailed Name="SDE_VAT_1">
<enttyp>
<enttypl Sync="FALSE">SDE_VAT_1</enttypl>
<enttypt Sync="TRUE">Table</enttypt>
<enttypc Sync="TRUE">5</enttypc>
</enttyp>
<attr>
<attrlabl Sync="TRUE">OBJECTID</attrlabl>
<attalias Sync="TRUE">OBJECTID</attalias>
<attrtype Sync="TRUE">OID</attrtype>
<attwidth Sync="TRUE">4</attwidth>
<atprecis Sync="TRUE">10</atprecis>
<attscale Sync="TRUE">0</attscale>
<attrdef Sync="TRUE">Internal feature number.</attrdef>
<attrdefs Sync="TRUE">ESRI</attrdefs>
<attrdomv>
<udom Sync="TRUE">Sequential unique whole numbers that are automatically generated.</udom>
</attrdomv>
</attr>
<attr>
<attrlabl Sync="TRUE">VALUE</attrlabl>
<attalias Sync="TRUE">VALUE</attalias>
<attrtype Sync="TRUE">Integer</attrtype>
<attwidth Sync="TRUE">4</attwidth>
<atprecis Sync="TRUE">10</atprecis>
<attscale Sync="TRUE">0</attscale>
</attr>
</detailed>
</eainfo>
<mdDateSt Sync="TRUE">20120815</mdDateSt>
<mdContact>
<rpIndName>Sandra Villacorta</rpIndName>
<rpOrgName>Instituto Geologico Minero y Metalurgico</rpOrgName>
<rpPosName>Director de Geología Ambiental y Riesgo Geológico</rpPosName>
<rpCntInfo>
<cntAddress>
<delPoint>Avenida Canada 1470 San Borja</delPoint>
<city>Lima</city>
<adminArea>Lima</adminArea>
<postCode>043</postCode>
<eMailAdd>svillacorta@ingemmet.gob.pe</eMailAdd>
<country>pe</country>
</cntAddress>
<cntPhone>
<voiceNum>6189800</voiceNum>
</cntPhone>
</rpCntInfo>
<role>
<RoleCd value="007">
</RoleCd>
</role>
</mdContact>
<dqInfo>
<dataLineage>
<statement>El presente mapa de susceptibilidad corresponde a un modelo heurístico multivariable elaborado en el año 2010. Ha sido validado con el mapa de inventario de movimientos en masa, con una correspondencia aproximada del 86 %.
Muy Alta: Laderas con zonas de falla, masas de rocas intensamente meteorizadas, saturadas y muy fracturadas; con discontinuidades desfavorables, depósitos superficiales inconsolidados, laderas con pendientes entre 30° a 45°, movimientos en masa anteriroes y/o antiguos. En estos sectores existe alta posibilidad de que ocurran MM. Alta: Laderas que tienen zonas de falla, masas de roca con meteorización alta a moderada, fracturadas con discontinuidades desfavorables; depósitos superficiales inconsolidados, materiales parcialmente a muy saturados, laderas con pendientes entre 25° a 45°, donde han ocurrido MM o existe la posibilidad de que ocurran.
Media: Laderas con algunas zonas de falla, erosión intensa o materiales parcialmente saturados, moderadamente meteorizados, laderas con pendientes entre 20° y 30°, donde han ocurrido algunos MM y no existe completa seguridad de que no ocurran. MM. Estos pueden ser "detonados" por sismos y lluvias excepcionales.
Baja: Laderas con materiales poco fracturados, moderada a poca meteorización, parcialmente erosionados, no saturados, con pocas discontinuidades favorables. Pendientes entre 10° a 20°. Zonas que tienen pocas condiciones para originar MM, salvo que puede ser afectada por MM ocurridos en zonas de susceptibilidad alta a muy alta cercanas a ellas, detonadas principalmente por lluvias excepcionales.
Muy Baja: Laderas no meteorizadas, con discontinuidades favorables. Terrenos con pendientes menores a 5° donde no existen indicios que permitan predecir deslizamientos.</statement>
</dataLineage>
<dqScope>
<scpLvl>
<ScopeCd value="005">
</ScopeCd>
</scpLvl>
</dqScope>
</dqInfo>
</metadata>
